BEGIN:VCALENDAR
VERSION:2.0
PRODID:-//Greenacres Foundation - ECPv6.15.20//NONSGML v1.0//EN
CALSCALE:GREGORIAN
METHOD:PUBLISH
X-WR-CALNAME:Greenacres Foundation
X-ORIGINAL-URL:https://green-acres.org
X-WR-CALDESC:Events for Greenacres Foundation
REFRESH-INTERVAL;VALUE=DURATION:PT1H
X-Robots-Tag:noindex
X-PUBLISHED-TTL:PT1H
BEGIN:VTIMEZONE
TZID:America/New_York
BEGIN:DAYLIGHT
TZOFFSETFROM:-0500
TZOFFSETTO:-0400
TZNAME:EDT
DTSTART:20230312T070000
END:DAYLIGHT
BEGIN:STANDARD
TZOFFSETFROM:-0400
TZOFFSETTO:-0500
TZNAME:EST
DTSTART:20231105T060000
END:STANDARD
BEGIN:DAYLIGHT
TZOFFSETFROM:-0500
TZOFFSETTO:-0400
TZNAME:EDT
DTSTART:20240310T070000
END:DAYLIGHT
BEGIN:STANDARD
TZOFFSETFROM:-0400
TZOFFSETTO:-0500
TZNAME:EST
DTSTART:20241103T060000
END:STANDARD
BEGIN:DAYLIGHT
TZOFFSETFROM:-0500
TZOFFSETTO:-0400
TZNAME:EDT
DTSTART:20250309T070000
END:DAYLIGHT
BEGIN:STANDARD
TZOFFSETFROM:-0400
TZOFFSETTO:-0500
TZNAME:EST
DTSTART:20251102T060000
END:STANDARD
BEGIN:DAYLIGHT
TZOFFSETFROM:-0500
TZOFFSETTO:-0400
TZNAME:EDT
DTSTART:20260308T070000
END:DAYLIGHT
BEGIN:STANDARD
TZOFFSETFROM:-0400
TZOFFSETTO:-0500
TZNAME:EST
DTSTART:20261101T060000
END:STANDARD
BEGIN:DAYLIGHT
TZOFFSETFROM:-0500
TZOFFSETTO:-0400
TZNAME:EDT
DTSTART:20270314T070000
END:DAYLIGHT
BEGIN:STANDARD
TZOFFSETFROM:-0400
TZOFFSETTO:-0500
TZNAME:EST
DTSTART:20271107T060000
END:STANDARD
END:VTIMEZONE
BEGIN:VEVENT
DTSTART;TZID=America/New_York:20260214T100000
DTEND;TZID=America/New_York:20260214T120000
DTSTAMP:20260424T075334
CREATED:20260106T174612Z
LAST-MODIFIED:20260106T174612Z
UID:10000185-1771063200-1771070400@green-acres.org
SUMMARY:Community Maple Day: Miami Township Clermont County
DESCRIPTION:[vc_section full_width=”stretch_row”][vc_row full_width=”stretch_row_content_no_spaces” el_class=”blog-hero-img-container”][vc_column][vc_single_image image=”28528″ img_size=”full” alignment=”center” onclick=”link_image” css=”” el_class=”blog-hero-img”][/vc_column][/vc_row][vc_row el_class=”custom-blog-title-row”][vc_column][vc_custom_heading source=”post_title” font_container=”tag:h2|text_align:center” use_theme_fonts=”yes” css=”.vc_custom_1733705176039{padding-top: 5px !important;}” el_class=”custom-blog-title”][vc_separator el_width=”20″ css=””][vc_column_text css=””] \n\n\nEvent Date: \nTime:  – \nPrice: \n \n\n\n[/vc_column_text][vc_separator el_width=”20″ css=””][/vc_column][/vc_row][vc_row el_class=”custom-blog-content-row”][vc_column][vc_column_text css=””]Celebrate the maple season at Greenacres Miami Township in Clermont County with a hands-on outdoor experience just 10 minutes from our Indian Hill campus. Participants will discover how maple syrup is made\, exploring both historic and modern methods used to transform sap into syrup. The program includes a guided walk through the sugar bush\, an opportunity to try drilling a tap hole\, and a visit to the evaporator to see the process in action. \nDesigned for school-aged children (ages 5 and up) and their caregivers\, this program takes place primarily outdoors and encourages learning through direct connection with the land. Please dress for the weather and wear sturdy footwear\, as trails may be muddy and uneven. \nGeneral Information\n\n\n\n\n\nAdvance registration is required; space is limited\nChildren (ages 5–17) must be registered with a participating adult\nClosed-toed shoes are required; please wear shoes that can get dirty and are comfortable for hiking\nNo strollers permitted\nNo pets allowed (ADA-certified service animals only)\nGuests must remain with a Greenacres representative at all times\, as Greenacres is a privately operating property\nGreenacres Farm Market is open to the public\, located at 8300 Spooky Hollow Road 45242.\n\nVisit our Farm Market web page for market hours and more information: https://green-acres.org/farm-market-product-availability/\n\n\n\n\n\n\n\nQuestions?\nContact Greenacres Education Team\, at education@green-acres.org or 513-715-0482. \nNo pets are allowed (ADA Certified Service Animals only).[/vc_column_text][/vc_column][/vc_row][/vc_section]
URL:https://green-acres.org/event/community-maple-day-miami-township-clermont-county-2/
LOCATION:Greenacres Miami Township Clermont County\, 6040 Price Road\, Milford\, OH\, 45150\, United States
CATEGORIES:Special Events
ATTACH;FMTTYPE=image/png:https://green-acres.org/wp-content/uploads/2026/01/2026_MTCC_MapleDay_GA_EventPreview_500x320.png
ORGANIZER;CN="Education Team":MAILTO:education@green-acres.org
GEO:39.2054479;-84.267641
X-APPLE-STRUCTURED-LOCATION;VALUE=URI;X-ADDRESS=Greenacres Miami Township Clermont County 6040 Price Road Milford OH 45150 United States;X-APPLE-RADIUS=500;X-TITLE=6040 Price Road:geo:-84.267641,39.2054479
END:VEVENT
BEGIN:VEVENT
DTSTART;TZID=America/New_York:20251108T100000
DTEND;TZID=America/New_York:20251108T123000
DTSTAMP:20260424T075334
CREATED:20250926T160345Z
LAST-MODIFIED:20250926T160345Z
UID:10000176-1762596000-1762605000@green-acres.org
SUMMARY:Community Fossil Day
DESCRIPTION:[vc_section full_width=”stretch_row”][vc_row full_width=”stretch_row_content_no_spaces” el_class=”blog-hero-img-container”][vc_column][vc_single_image image=”27115″ img_size=”full” alignment=”center” onclick=”link_image” css=”” el_class=”blog-hero-img”][/vc_column][/vc_row][vc_row el_class=”custom-blog-title-row”][vc_column][vc_custom_heading source=”post_title” font_container=”tag:h2|text_align:center” use_theme_fonts=”yes” css=”.vc_custom_1733705176039{padding-top: 5px !important;}” el_class=”custom-blog-title”][vc_separator el_width=”20″ css=””][vc_column_text css=””] \n\n\nEvent Date: \nTime:  – \nPrice: \n \n\n\n[/vc_column_text][vc_separator el_width=”20″ css=””][/vc_column][/vc_row][vc_row el_class=”custom-blog-content-row”][vc_column][vc_column_text css=””] \n\n\n\n\nTravel back in time with the Greenacres Education team during this hands-on fossil-hunting adventure! We’ll begin with a brief overview of Ohio’s unique geology\, then hike to the creek to explore exposed rock beds in search of 450-million-year-old Ordovician fossils—like bryozoans\, brachiopods\, and other ancient marine life. Along the way\, participants will also discover how the creek’s modern ecosystem continues to be shaped by its oceanic past. \n  \n\n\n\n\n\n\n\nThis program is designed for adults and school-aged children ages 5 and up. Younger siblings are welcome but may need extra support from an adult. Please wear clothes you don’t mind getting wet and muddy\, and close-toed shoes are required. \n  \n\n\n\nTickets\n\n\n\n\n\n$1 per person (adults and children)\nAll participants must be registered in advance—space is limited!\nAdult tickets are available and tickets for children (ages 7-17) are only available for purchase with a participating adult\n\n\n\n\n\nGeneral Information\n\n\n\n\n\nNo strollers or pets permitted.\nFilled water bottles are permitted.\nAll food must remain in your vehicle.\nWear clothing suitable for outdoor exploration (rain or shine).\nClosed-toed shoes are required; expect them to get wet and muddy.\nGreenacres Foundation is privately operated; all guests on the property must be accompanied by a Greenacres representative at all times.\nGreenacres Farm Market is open to the public\, located at 8300 Spooky Hollow Road 45242\n\nVisit our Farm Market web page for market hours and more information: https://green-acres.org/farm-market-product-availability/\n\n\n\n\n\n\n\nQuestions?\nFor questions about this event\, please call Greenacres Education Team at 513-715-0482 or email education@green-acres.org. \nNo pets are allowed (ADA Certified Service Animals only).[/vc_column_text][/vc_column][/vc_row][/vc_section]
URL:https://green-acres.org/event/community-fossil-day-miami-township-clermont-county-2025/
LOCATION:Greenacres Miami Township Clermont County\, 6040 Price Road\, Milford\, OH\, 45150\, United States
CATEGORIES:Special Events
ATTACH;FMTTYPE=image/png:https://green-acres.org/wp-content/uploads/2025/08/2025_FossilDay_GA_EventPreview_500x320.png
ORGANIZER;CN="Education Team":MAILTO:education@green-acres.org
GEO:39.2054479;-84.267641
X-APPLE-STRUCTURED-LOCATION;VALUE=URI;X-ADDRESS=Greenacres Miami Township Clermont County 6040 Price Road Milford OH 45150 United States;X-APPLE-RADIUS=500;X-TITLE=6040 Price Road:geo:-84.267641,39.2054479
END:VEVENT
BEGIN:VEVENT
DTSTART;TZID=America/New_York:20250208T100000
DTEND;TZID=America/New_York:20250208T120000
DTSTAMP:20260424T075334
CREATED:20241218T202213Z
LAST-MODIFIED:20250127T185345Z
UID:10000133-1739008800-1739016000@green-acres.org
SUMMARY:Community Maple Day: Miami Township Clermont County - WAITLIST ONLY
DESCRIPTION:[vc_section full_width=”stretch_row”][vc_row full_width=”stretch_row_content_no_spaces” el_class=”blog-hero-img-container”][vc_column][vc_single_image image=”24166″ img_size=”full” alignment=”center” onclick=”link_image” css=”” el_class=”blog-hero-img”][/vc_column][/vc_row][vc_row el_class=”custom-blog-title-row”][vc_column][vc_custom_heading source=”post_title” font_container=”tag:h2|text_align:center” use_theme_fonts=”yes” css=”.vc_custom_1733705176039{padding-top: 5px !important;}” el_class=”custom-blog-title”][vc_separator el_width=”20″ css=””][vc_column_text css=””] \n\n\nEvent Date: \nTime:  – \nPrice: \n \n\n\n[/vc_column_text][vc_separator el_width=”20″ css=””][/vc_column][/vc_row][vc_row el_class=”custom-blog-content-row”][vc_column][vc_column_text css=””]Just a 10-minute drive from our Indian Hill campus\, Greenacres Miami Township Clermont County is the perfect spot to celebrate maple season! Discover the art of making maple syrup\, both past and present. Enjoy a short hike through our sugar bush\, try your hand at drilling a tap hole\, and visit the evaporator to see how sap is transformed into syrup. This program is designed for school-aged children\, ages 5 and up\, and takes place primarily outdoors. Please dress for the weather to fully enjoy this hands-on experience! \nBe prepared for uneven terrain and muddy trails. \nGeneral Information\n\n\n\n\n\nRegister in advance as space is limited\nAdult tickets are available and tickets for children (ages 5-17) are only available for purchase with a participating adult\nClosed-toed shoes are required; please wear shoes that can get dirty and are comfortable for hiking\nNo strollers permitted\nNo pets may be brought to Greenacres\nGreenacres Foundation is privately operating; all guests on property must be accompanied by a Greenacres representative at all times.\nGreenacres Farm Market is open to the public\, located at 8300 Spooky Hollow Road 45242.\n\nVisit our Farm Market web page for market hours and more information: https://green-acres.org/farm-market-product-availability/ \n\n\n\n\n\n\n\nQuestions?\nContact Greenacres Education Team\, at education@green-acres.org or 513-715-0482. \nNo pets are allowed (ADA Certified Service Animals only).
URL:https://green-acres.org/event/community-maple-day-miami-township-clermont-county/
LOCATION:Greenacres Miami Township Clermont County\, 6040 Price Road\, Milford\, OH\, 45150\, United States
CATEGORIES:Special Events
ATTACH;FMTTYPE=image/png:https://green-acres.org/wp-content/uploads/2024/12/2025_MTCC_MapleDay_GA_EventPreview_500x320.png
ORGANIZER;CN="Education Team":MAILTO:education@green-acres.org
GEO:39.2054479;-84.267641
X-APPLE-STRUCTURED-LOCATION;VALUE=URI;X-ADDRESS=Greenacres Miami Township Clermont County 6040 Price Road Milford OH 45150 United States;X-APPLE-RADIUS=500;X-TITLE=6040 Price Road:geo:-84.267641,39.2054479
END:VEVENT
BEGIN:VEVENT
DTSTART;TZID=America/New_York:20250118T080000
DTEND;TZID=America/New_York:20250118T103000
DTSTAMP:20260424T075334
CREATED:20241126T163915Z
LAST-MODIFIED:20250109T172506Z
UID:10000129-1737187200-1737196200@green-acres.org
SUMMARY:Winter Bird Hike - Miami Township Clermont County - WAITLIST ONLY
DESCRIPTION:[vc_section][vc_row gap=”35″][vc_column width=”2/3″][vc_single_image image=”23920″ img_size=”full” alignment=”center” css=””][vc_column_text css=””]Get out and enjoy the sights and sounds of Winter! Join us at Greenacres Miami Township Clermont County for a bird hike designed for beginner to intermediate birders. Beginners can learn to identify some common birds. More experienced birders will practice their skills in identifying by sight and sound. We’ll explore a variety of habitats to search for as many common birds as possible and maybe even see something you’ve never seen before. \nRecommended gear: Bring your own binoculars and field guide\, or borrow a pair from Greenacres. \nGeneral Information\n\nRegister in advance (space is limited)\nAdult tickets are available\, and tickets for children (ages 7-17) are only available for purchase with a participating adult\n$1 per person\nPlease dress appropriately for the weather and prepare for uneven terrain\nPlease bring a personal water bottle (filled)\nClosed-toed shoes are required; please wear shoes that can get wet and/or dirty and are comfortable for hiking\nNo strollers permitted\nNo pets may be brought to Greenacres\nGreenacres Foundation is privately operating; all guests on the property must be accompanied by a Greenacres representative at all times\nGreenacres Farm Market is open to the public\n\nVisit our farm store web page for store hours and more information: https://green-acres.org/farm/farm-store\n\n\n\n\nQuestions?\nContact the Greenacres Education team at education@green-acres.org or 513-898-3262.[/vc_column_text][/vc_column][vc_column width=”1/3″ css=”.vc_custom_1597692061243{padding-right: 25px !important;padding-left: 25px !important;}”][vc_column_text css=”” el_class=”right-info-block”] \nTickets On Sale\nGet Tickets\n[/vc_column_text][vc_column_text el_class=”right-info-block”] \nGet Updates\n\nFollow us and never miss another event again. \n\n[/vc_column_text][vc_column_text el_class=”blog-follow-us-container”] \n\n\n\n\n  \n\n[/vc_column_text][/vc_column][/vc_row][/vc_section]
URL:https://green-acres.org/event/winter-bird-hike-miami-township-clermont-county/
LOCATION:Greenacres Miami Township Clermont County\, 6040 Price Road\, Milford\, OH\, 45150\, United States
CATEGORIES:Special Events
ATTACH;FMTTYPE=image/png:https://green-acres.org/wp-content/uploads/2024/11/2025_WinterBirdHike_16x9_3840x2160.png
ORGANIZER;CN="Education Team":MAILTO:education@green-acres.org
GEO:39.2054479;-84.267641
X-APPLE-STRUCTURED-LOCATION;VALUE=URI;X-ADDRESS=Greenacres Miami Township Clermont County 6040 Price Road Milford OH 45150 United States;X-APPLE-RADIUS=500;X-TITLE=6040 Price Road:geo:-84.267641,39.2054479
END:VEVENT
BEGIN:VEVENT
DTSTART;TZID=America/New_York:20241116T100000
DTEND;TZID=America/New_York:20241116T123000
DTSTAMP:20260424T075334
CREATED:20240917T171629Z
LAST-MODIFIED:20241105T173720Z
UID:10000122-1731751200-1731760200@green-acres.org
SUMMARY:Community Fossil Day
DESCRIPTION:[vc_section][vc_row gap=”35″][vc_column width=”2/3″][vc_single_image image=”21076″ img_size=”full” alignment=”center” css=””][vc_column_text css=””] \nCome learn about Ohio’s unique geology and get a chance to look for fossils here at Greenacres. Program will consist of a brief overview of the geology of Ohio then move to the creek where participants will search for Ohio’s Ordovician fossils and try to identify them. This program is suitable for school aged children ages 5 and above.  Please wear clothes you don’t mind getting wet and muddy.  Close toed shoes are required. \nGeneral Information\n\nRegister in advance (space is limited)\nAdult tickets are available\, and tickets for children (ages 5-17) are only available for purchase with a participating adult\n$1 per person\nPlease dress appropriately for the weather\, we will be outside in nature for most of the time. Shoes will get wet and dirty. Closed-toed shoes are required.\nIf you would like\, please bring a filled water bottle\nNo strollers permitted\nNo pets may be brought to Greenacres\nGreenacres Foundation is privately operating; all guests on the property must be accompanied by a Greenacres representative at all times\nGreenacres Farm Store is open to the public\n\nVisit our farm store web page for store hours and more information: https://green-acres.org/farm/farm-store\n\n\n\n\nQuestions?\nContact the Greenacres Education team\, at education@green-acres.org or 513-898-3262.[/vc_column_text][/vc_column][vc_column width=”1/3″ css=”.vc_custom_1597692061243{padding-right: 25px !important;padding-left: 25px !important;}”][vc_column_text css=”” el_class=”right-info-block”] \nTickets On Sale\nGet Tickets\n[/vc_column_text][vc_column_text el_class=”right-info-block”] \nGet Updates\n\nFollow us and never miss another event again. \n\n[/vc_column_text][vc_column_text el_class=”blog-follow-us-container”] \n\n\n\n\n  \n\n[/vc_column_text][/vc_column][/vc_row][/vc_section]
URL:https://green-acres.org/event/community-fossil-day-2024/
LOCATION:Greenacres Miami Township Clermont County\, 6040 Price Road\, Milford\, OH\, 45150\, United States
CATEGORIES:Special Events
ATTACH;FMTTYPE=image/png:https://green-acres.org/wp-content/uploads/2023/10/2023_FossilDay_3840x2160.png
ORGANIZER;CN="Education Team":MAILTO:education@green-acres.org
GEO:39.2054479;-84.267641
X-APPLE-STRUCTURED-LOCATION;VALUE=URI;X-ADDRESS=Greenacres Miami Township Clermont County 6040 Price Road Milford OH 45150 United States;X-APPLE-RADIUS=500;X-TITLE=6040 Price Road:geo:-84.267641,39.2054479
END:VEVENT
BEGIN:VEVENT
DTSTART;TZID=America/New_York:20240210T100000
DTEND;TZID=America/New_York:20240210T123000
DTSTAMP:20260424T075334
CREATED:20240104T213358Z
LAST-MODIFIED:20240121T234608Z
UID:10000095-1707559200-1707568200@green-acres.org
SUMMARY:Maple Day: Miami Township Clermont County - Waitlist Only
DESCRIPTION:[vc_section][vc_row gap=”35″][vc_column width=”2/3″][vc_single_image image=”21833″ img_size=”full” onclick=”custom_link” link=”https://buytickets.at/greenacresfoundation/1108255″][vc_column_text]Only a 10-minute drive from our Indian Hill campus\, Greenacres Miami Township Clermont County is a great place to enjoy the maple season! Learn about the process of making maple syrup in the past and the present. We will take a short hike in our sugar bush\, you will be able to try your hand at drilling a tap hole and visit the evaporator as we learn about the process of sap becoming syrup. This program is suitable for school-aged children ages 5 and above. Participants should come dressed for the weather as this program will take place predominately outside. \nBe prepared for uneven terrain and muddy trails. \nGeneral Information\n\nRegister in advance as space is limited\nAdult tickets are available and tickets for children (ages 5-17) are only available for purchase with a participating adult\n$1 per person\nClosed-toed shoes are required; please wear shoes that can get dirty and are comfortable for hiking\nNo strollers permitted\nNo pets may be brought to Greenacres\nGreenacres Foundation is privately operating; all guests on the property must be accompanied by a Greenacres representative at all times.\nGreenacres Farm Store is open to the public\, located at 8255 Spooky Hollow Road 45242.\n\nVisit our farm store web page for store hours and more information: https://green-acres.org/farm/farm-store\n\n\n\nQuestions?\nContact the Greenacres Education Team at education@green-acres.org or 513-898-3262.[/vc_column_text][/vc_column][vc_column width=”1/3″ css=”.vc_custom_1597692061243{padding-right: 25px !important;padding-left: 25px !important;}”][vc_column_text el_class=”right-info-block”] \nTickets On Sale\nGet Tickets\n[/vc_column_text][vc_column_text el_class=”right-info-block”] \nGet Updates\n\nFollow us and never miss another event again. \n\n[/vc_column_text][vc_column_text el_class=”blog-follow-us-container”] \n\n\n\n\n  \n\n[/vc_column_text][/vc_column][/vc_row][/vc_section]
URL:https://green-acres.org/event/maple-day-miami-township-clermont-county/
LOCATION:Greenacres Miami Township Clermont County\, 6040 Price Road\, Milford\, OH\, 45150\, United States
CATEGORIES:Special Events
ATTACH;FMTTYPE=image/png:https://green-acres.org/wp-content/uploads/2024/01/2024_MapleDay_MTCC_3840x2160.png
ORGANIZER;CN="Education Team":MAILTO:education@green-acres.org
GEO:39.2054479;-84.267641
X-APPLE-STRUCTURED-LOCATION;VALUE=URI;X-ADDRESS=Greenacres Miami Township Clermont County 6040 Price Road Milford OH 45150 United States;X-APPLE-RADIUS=500;X-TITLE=6040 Price Road:geo:-84.267641,39.2054479
END:VEVENT
END:VCALENDAR